BEGIN:VCALENDAR
VERSION:2.0
PRODID:-//Coavnbiz - ECPv5.1.0//NONSGML v1.0//EN
CALSCALE:GREGORIAN
METHOD:PUBLISH
X-WR-CALNAME:Coavnbiz
X-ORIGINAL-URL:http://coavnbiz.org
X-WR-CALDESC:Eventos para Coavnbiz
BEGIN:VTIMEZONE
TZID:Europe/Madrid
BEGIN:DAYLIGHT
TZOFFSETFROM:+0100
TZOFFSETTO:+0200
TZNAME:CEST
DTSTART:20220327T010000
END:DAYLIGHT
BEGIN:STANDARD
TZOFFSETFROM:+0200
TZOFFSETTO:+0100
TZNAME:CET
DTSTART:20221030T010000
END:STANDARD
END:VTIMEZONE
BEGIN:VEVENT
DTSTART;TZID=Europe/Madrid:20221007T130000
DTEND;TZID=Europe/Madrid:20221007T150000
DTSTAMP:20260423T091112
CREATED:20220919T084212Z
LAST-MODIFIED:20220926T075843Z
UID:16973-1665147600-1665154800@coavnbiz.org
SUMMARY:12 MESES 12 ARQUITECTAS
DESCRIPTION:12 meses 12 arquitectas\n  \nCreatividad\, talento y muchas horas de trabajo caracterizan a muchos profesionales de la arquitectura. En el quinto encuentro de 12 meses 12 arquitectas hablaremos sobre esto y mucho más. \n¿Descubrimos como lo han hecho ellas? \n\nAne Arce (Bizkaia)\n\nArquitecta por la Escuela Técnica Superior de Arquitectura de la Universidad de Navarra en 2014. Co-fundadora de BEAR en 2018 junto a Iñigo Berasategui con quien recibe el premio Peña Ganchegui 2019 por su trayectoria arquitectónica. \nAmbos han formado parte del estudio AZAB hasta 2021\, equipo también integrado por Cristina Acha y Miguel Zaballa.  \nEntre los trabajos de BEAR destaca la Euskal Herriko Plaza en Mallabia (Bizkaia) que fue seleccionados por la XV Bienal Española de Arquitectura y Urbanismo. Su trabajo se describe como un proceso de innovación arquitectónica donde poner en práctica nuevas formas estéticas renovadas y transformadoras. \n\nMaier Vélez (Navarra)\n\nArquitecta por la Escuela Técnica Superior de Arquitectura de la Universidad de Navarra\, E.T.S.A.U.N. desde el año 2003. Se especializó en Paisaje y Medio Ambiente\, obteniendo el título propio de la Universidad de Navarra (PMA) y es Máster en Jardinería y Paisaje por la Universidad Politécnica de Valencia. \nEn la actualidad dirige su propio estudio MID estudio junto a David Serrano. \n  \nFecha: 7 de octubre de 2022 de 13:00 a 15:00h \nUbicación: Presencial en la Delegación en Navarra del COAVN y online previa inscripción a través de este formulario antes del 7 de octubre a las 12:00. \n¡Os esperamos! \n  \n\n   \nPróximos eventos:  \n5 de noviembre:  Agnieszka Stepien y Arritokieta Eizagirre. COAVN Álava. INSCRÍBETE \nA lo largo de diciembre: Jornada de Cierre. COAVN Gipuzkoa. INSCRÍBETE \n  \n\nEventos anteriores: \n4 de marzo: Victoria Iglesias y Berta Úriz. COAVN Navarra. \n1 de abril:  Estefanía Múgica y Marta González Cavia. COAVN Gipuzkoa. \n6 de mayo: Gloria Iriarte y Jimena Ruíz de Landa. COAVN Bizkaia. \n3 de junio: Elisa Martínez Beitia y Gentzane Goikuria. COAVN Bizkaia. \n  \n¡Reserva los días de tu agenda! \n  \n\n  \n
URL:http://coavnbiz.org/evento/16973/
CATEGORIES:Cultura,Evento Cultural
ATTACH;FMTTYPE=image/jpeg:http://coavnbiz.org/wp-content/uploads/2022/09/Ane-Arce-Maier-Velez1.jpg
END:VEVENT
END:VCALENDAR