BEGIN:VCALENDAR
VERSION:2.0
PRODID:-//Coavnbiz - ECPv5.1.0//NONSGML v1.0//EN
CALSCALE:GREGORIAN
METHOD:PUBLISH
X-WR-CALNAME:Coavnbiz
X-ORIGINAL-URL:http://coavnbiz.org/eu/
X-WR-CALDESC:Events for Coavnbiz
BEGIN:VTIMEZONE
TZID:Europe/Madrid
BEGIN:DAYLIGHT
TZOFFSETFROM:+0100
TZOFFSETTO:+0200
TZNAME:CEST
DTSTART:20200329T010000
END:DAYLIGHT
BEGIN:STANDARD
TZOFFSETFROM:+0200
TZOFFSETTO:+0100
TZNAME:CET
DTSTART:20201025T010000
END:STANDARD
END:VTIMEZONE
BEGIN:VEVENT
DTSTART;TZID=Europe/Madrid:20200921T093000
DTEND;TZID=Europe/Madrid:20200921T190000
DTSTAMP:20260423T091634
CREATED:20200715T100740Z
LAST-MODIFIED:20200715T100740Z
UID:10727-1600680600-1600714800@coavnbiz.org
SUMMARY:CURSO: REHABILITACIÓN ESTRUCTURAS DE FÁBRICA
DESCRIPTION:\nREHABILITACIÓN ESTRUCTURAS DE FÁBRICA\n\n   \nMÓDULO 1.- EL MURO DE FÁBRICA \n1.1. Conceptos básicos. Estructura \n\nCaracterísticas del muro\nTipología\n\n1.2. Los materiales pétreos y cerámicos en la construcción con fábricas. \n1.3. La alteración de los materiales pétreos y cerámicos. \n1.4. Intervención y tratamiento. \n  \nMÓDULO 2.- PROYECTO DE ACTUACIÓN. \n2.1.- Contenido\n2.2.- Proceso de intervención. Estudio patológico.\n– Observación\n– Toma de datos\n– Análisis. Diagnóstico\n– Propuesta de actuación. Ensayos a realizar. \n  \nMÓDULO 3.- CRITERIOS BÁSICOS PARA LA REPARACION DE E. DE FÁBRICA. \n3.1.- Introducción\n3.2.- Reparación de humedades en muro.\n– Electro-osmosis\n– Barrera química \nOtras acciones \n3.3.- Tratamientos para evitar el deterioro de las fábricas de ladrillo (cara vista) como repararlo \n\nMÓDULO 4.- TRATAMIENTOS DE NÚCLEO Y REVESTIMIENTOS. \n4.1.- Factores que inciden en la protección y conservación. (Inyecciones de cal/resinas) \n4.2.- Tratamiento de los elementos de revestimiento. \nMÓDULO 5.- MEDIDAS DE ACTUACION. OBTENCIÓN DE DATOS. REPARACIÓN ESTRUCTURAL \n5.1.- Proceso\n– Reconocimiento del muro \n\nEnsayos Químicos.\nEnsayos Físicos.\n– Ensayos destructivos\n\nEnsayos no destructivos \n5.2.- Análisis de los distintos elementos\n– Problemas higrotérmicos y su repercusión en la estructura. \n  \nMÓDULO 6.- LA EJECUCIÓN DE LOS APEOS PREVIOS A LA REPARACIÓN ESTRUCTURAL. \n 6.1.-  Dónde realizar el apeo \n6.2.-  Cómo realizar el apeo \n  \nMÓDULO 7.- CÁLCULOS DE REHABILITACIÓN DE MUROS DE FÁBRICA\nDe resolución de casos prácticos de lesiones en sistemas constructivos. \n7.1.- Comprobación de estructuras Muro de Fabrica. Aspectos Generales. DB SE Fábricas \n-Introducción \n-Base de Cálculo \n-Peritación de elementos estructurales \n7.2.- Refuerzos de muros \n– Refuerzo mediante recrecido \n– Refuerzo tratamiento químico \n7.3.- Cálculos \n  \nMÓDULO 8.- INFORME EJEMPLO REHABILITACIÓN ESTRUCTURA DE FÁBRICA \n  \n\n\n\n  \n\n\n\n\n\n\n\nPONENTE \nJosé Moriana Pericet. Arquitecto \n\nPRECIO \n90€  colegiados y estudiantes universitarios. \nSi eres estudiante Universitario: una vez recibido el email de confirmación de la inscripción\, deberás enviar justificante de ser estudiante a la dirección que se indica en el mismo\, junto al justificante de pago. \n130€  no colegiados. \nNota: Una vez hecha la inscripción al curso\, en caso de necesitar darse de baja\, sólo se devolverá el importe de la matrícula si se avisa con una semana de antelación al comienzo del curso. \n\nCALENDARIO \n21 de septiembre 2020\, en horario de 09:30-13:30h y 15:00-19:00h (Salón de Actos de la Delegación en Bizkaia del COAVN). \n\n¿CÓMO ME APUNTO? \nPdf con Instrucciones \n\n  \nIZENA EMATEA\n\n\n\n\n\n\n\n  \n\n\n
URL:http://coavnbiz.org/eu/evento/curso-rehabilitacion-estructuras-de-fabrica/
LOCATION:Salón de Actos de la Delegación de Bizkaia del COAVN\, Alameda Mazarredo nº 69-71\, Bilbao\, Bizkaia\, 48009\, España
CATEGORIES:Formación
ATTACH;FMTTYPE=image/jpeg:http://coavnbiz.org/wp-content/uploads/2020/06/foto-curso-2.jpg
END:VEVENT
END:VCALENDAR